BEGIN:VCALENDAR
VERSION:2.0
PRODID:-//Passive House Chicago - ECPv6.15.15//NONSGML v1.0//EN
CALSCALE:GREGORIAN
METHOD:PUBLISH
X-WR-CALNAME:Passive House Chicago
X-ORIGINAL-URL:https://passivehousechicago.org
X-WR-CALDESC:Events for Passive House Chicago
REFRESH-INTERVAL;VALUE=DURATION:PT1H
X-Robots-Tag:noindex
X-PUBLISHED-TTL:PT1H
BEGIN:VTIMEZONE
TZID:America/Chicago
BEGIN:DAYLIGHT
TZOFFSETFROM:-0600
TZOFFSETTO:-0500
TZNAME:CDT
DTSTART:20220313T080000
END:DAYLIGHT
BEGIN:STANDARD
TZOFFSETFROM:-0500
TZOFFSETTO:-0600
TZNAME:CST
DTSTART:20221106T070000
END:STANDARD
BEGIN:DAYLIGHT
TZOFFSETFROM:-0600
TZOFFSETTO:-0500
TZNAME:CDT
DTSTART:20230312T080000
END:DAYLIGHT
BEGIN:STANDARD
TZOFFSETFROM:-0500
TZOFFSETTO:-0600
TZNAME:CST
DTSTART:20231105T070000
END:STANDARD
BEGIN:DAYLIGHT
TZOFFSETFROM:-0600
TZOFFSETTO:-0500
TZNAME:CDT
DTSTART:20240310T080000
END:DAYLIGHT
BEGIN:STANDARD
TZOFFSETFROM:-0500
TZOFFSETTO:-0600
TZNAME:CST
DTSTART:20241103T070000
END:STANDARD
END:VTIMEZONE
BEGIN:VEVENT
DTSTART;TZID=America/Chicago:20230215T170000
DTEND;TZID=America/Chicago:20230215T180000
DTSTAMP:20260420T052301
CREATED:20230109T180717Z
LAST-MODIFIED:20230206T183002Z
UID:5191-1676480400-1676484000@passivehousechicago.org
SUMMARY:More Than a Blower Door: Top Lessons Learned from Phius Raters and Verifiers
DESCRIPTION:Are you wrapping up Pre-Cert and want a better idea of what’s next? Curious on what’s really in store with Phius projects? Prepare Thyself! \n\nJoin us as we discuss the inspections\, additional certifications (yes\, it’s a bundle!)\, and testing needs required for Single Family\, Multifamily\, and Commercial Phius projects. \nParticipants will receive certification strategies for Phius and concrete examples of what to include and what to avoid in their upcoming projects. \nLearning Objectives \n\nLearning Objective #1: Understanding the additional programs for phius certification: ENERGY STAR\, ZERH\, and IAP.\nLearning Objective #2: Identifying key team members required for certification.\nLearning Objective #3: Discussion of all testing and inspections\, along with helpful hints.\nLearning Objective #4: Lessons learned from a variety of phius projects.\n\nAbout the Presenters \n\nPresented by the team from Eco Achievers. \nLindsey Elton\nLindsey is certified in advanced building science and building diagnostic testing. Her company\, Eco Achievers\, helps project teams throughout the country to construct high-performance multi-family and mixed-use buildings that meet everything from NGBS to LEED\, ENERGY STAR\, EGC\, and Phius standards. Lindsey has been fortunate to work on many firsts as a Phius professional – from the first certified multi-family projects in IL\, MN\, WI\, and Chicago\, to the first commercial projects in IL. In current times\, Lindsey runs Eco Achievers’ Detroit office and is working to support the region’s advancement of high-performance market rate and affordable housing projects. Lindsey serves on the RESNET Board of Directors and is Vice President of the Passive House Alliance – Chicago. \nGraham Giovagnoli\nSince 2010\, Graham has been involved in the energy efficiency industry through multiple roles: green building rater/verifier\, residential and commercial energy auditor\, weatherization contractor and trainer\, BPI proctor\, and solar system designer. He has completed hundreds of energy audits\, performed countless energy diagnostic tests and personally certified about 100 BPI Building Analysts through the Illinois funded Urban Weatherization Initiative. He currently works on multifamily PHIUS\, NGBS and ENERGY STAR projects of every size and shape.
URL:https://passivehousechicago.org/event/more-than-a-blower-door-top-lessons-learned-from-phius-raters-and-verifiers/
LOCATION:Online – Zoom
CATEGORIES:Passive House Alliance Meetup
ATTACH;FMTTYPE=image/jpeg:https://passivehousechicago.org/wp-content/uploads/2023/01/more-than-a-blower-door.jpg
END:VEVENT
END:VCALENDAR